BEGIN:VCALENDAR
VERSION:2.0
PRODID:-//Tipperary Energy Agency - ECPv4.3.1.1//NONSGML v1.0//EN
CALSCALE:GREGORIAN
METHOD:PUBLISH
X-WR-CALNAME:Tipperary Energy Agency
X-ORIGINAL-URL:http://tippenergy.ie
X-WR-CALDESC:Events for Tipperary Energy Agency
BEGIN:VEVENT
DTSTART;TZID=UTC+0:20171024T190000
DTEND;TZID=UTC+0:20171024T200000
DTSTAMP:20171024T024940
CREATED:20170913T094033Z
LAST-MODIFIED:20171020T112500Z
UID:8922-1508871600-1508875200@tippenergy.ie
SUMMARY:SEAI Better Energy Communities Information Event
DESCRIPTION:Are you a business or community group looking to reduce your energy costs?\n\nUp to 50% funding is available for community groups\, such as community halls\, resource centres\, schools\, charity facilities and sports clubs. Up to 30% funding for the private sector such as\, businesses\, commercial buildings\, nursing homes and hotels.\nEnergy efficiency projects that might be eligible include Insulation\, Lighting\, Heating\, Windows/doors and Process upgrades and Renewable Energy. Funding is available from the Sustainable Energy Authority of Ireland.\n\nDid you know that community groups can access community loans to finance and assist with your Better Energy Community Project? Clann Credo - Community Loan Finance together with \n\n\nSEAI Better Energy Community scheme can help you springboard a long awaited or much needed energy upgrade.\n\nTipperary Energy Agency is holding a information event in Cahir on October 23 and Nenagh on October 24 2017. We have helped numerous schools\, sports clubs and community groups and more access this funding.\n\nPlease email heather@tippenergy.ie if you wish to attend a information event\n\nPlease complete the Expression of Interest form to tell us more about your project
URL:http://tippenergy.ie/event/better-energy-communities-information-event-2018-2/
LOCATION:Nenagh\, Tipperary
ATTACH;FMTTYPE=image/jpeg:http://tippenergy.ie/wp-content/uploads/2016/07/Superhomes-Deep-Retrofit-Scheme.jpg
END:VEVENT
END:VCALENDAR